Package: marr Version: 1.19.0 Command: /home/biocbuild/bbs-3.22-bioc/R/bin/R CMD INSTALL marr StartedAt: 2025-10-03 15:18:56 -0400 (Fri, 03 Oct 2025) EndedAt: 2025-10-03 15:19:27 -0400 (Fri, 03 Oct 2025) EllapsedTime: 31.4 seconds RetCode: 0 Status: OK