Package: marr Version: 1.21.0 Command: /home/biocbuild/bbs-3.23-bioc/R/bin/R CMD INSTALL marr StartedAt: 2025-11-21 15:21:08 -0500 (Fri, 21 Nov 2025) EndedAt: 2025-11-21 15:21:39 -0500 (Fri, 21 Nov 2025) EllapsedTime: 31.3 seconds RetCode: 0 Status: OK