Package: marr Version: 1.21.0 Command: /home/biocbuild/bbs-3.23-bioc/R/bin/R CMD build --keep-empty-dirs --no-resave-data marr StartedAt: 2025-11-21 18:26:58 -0500 (Fri, 21 Nov 2025) EndedAt: 2025-11-21 18:27:45 -0500 (Fri, 21 Nov 2025) EllapsedTime: 47.0 seconds RetCode: 0 Status: OK PackageFile: marr_1.21.0.tar.gz PackageFileSize: 619.8 KiB