Package: marr Version: 1.19.0 Command: /Library/Frameworks/R.framework/Resources/bin/R CMD INSTALL marr StartedAt: 2025-10-14 15:13:20 -0400 (Tue, 14 Oct 2025) EndedAt: 2025-10-14 15:13:32 -0400 (Tue, 14 Oct 2025) EllapsedTime: 11.4 seconds RetCode: 0 Status: OK