Package: markeR Version: 0.99.6 Command: /home/biocbuild/bbs-3.22-bioc/R/bin/R CMD INSTALL markeR StartedAt: 2025-10-03 15:13:40 -0400 (Fri, 03 Oct 2025) EndedAt: 2025-10-03 15:13:58 -0400 (Fri, 03 Oct 2025) EllapsedTime: 18.6 seconds RetCode: 0 Status: OK