Package: markeR Version: 1.1.0 Command: /home/biocbuild/bbs-3.23-bioc/R/bin/R CMD INSTALL markeR StartedAt: 2025-11-21 15:15:02 -0500 (Fri, 21 Nov 2025) EndedAt: 2025-11-21 15:15:21 -0500 (Fri, 21 Nov 2025) EllapsedTime: 19.1 seconds RetCode: 0 Status: OK