Package: markeR Version: 1.1.0 Command: /home/biocbuild/bbs-3.23-bioc/R/bin/R CMD build --keep-empty-dirs --no-resave-data markeR StartedAt: 2025-11-21 18:26:55 -0500 (Fri, 21 Nov 2025) EndedAt: 2025-11-21 18:31:07 -0500 (Fri, 21 Nov 2025) EllapsedTime: 251.2 seconds RetCode: 0 Status: OK PackageFile: markeR_1.1.0.tar.gz PackageFileSize: 3.81 MiB