Package: markeR Version: 1.1.0 Command: /Library/Frameworks/R.framework/Resources/bin/R CMD INSTALL markeR StartedAt: 2025-11-21 15:21:31 -0500 (Fri, 21 Nov 2025) EndedAt: 2025-11-21 15:21:52 -0500 (Fri, 21 Nov 2025) EllapsedTime: 20.3 seconds RetCode: 0 Status: OK