Package: markeR Version: 1.1.0 Command: /Library/Frameworks/R.framework/Resources/bin/R CMD build --keep-empty-dirs --no-resave-data markeR StartedAt: 2025-11-21 17:33:58 -0500 (Fri, 21 Nov 2025) EndedAt: 2025-11-21 17:38:57 -0500 (Fri, 21 Nov 2025) EllapsedTime: 299.5 seconds RetCode: 0 Status: OK PackageFile: markeR_1.1.0.tar.gz PackageFileSize: 3.834 MiB