Package: markeR Version: 1.1.0 Command: rm -rf markeR.buildbin-libdir && mkdir markeR.buildbin-libdir && /Users/biocbuild/BBS/utils/build-universal.sh markeR_1.1.0.tar.gz /Library/Frameworks/R.framework/Resources/bin/R markeR.buildbin-libdir StartedAt: 2025-11-22 01:41:42 -0500 (Sat, 22 Nov 2025) EndedAt: 2025-11-22 01:42:15 -0500 (Sat, 22 Nov 2025) EllapsedTime: 32.6 seconds RetCode: 0 Status: OK PackageFile: markeR_1.1.0.tgz PackageFileSize: 4.109 MiB