Package: markeR Version: 0.99.6 Command: /Library/Frameworks/R.framework/Resources/bin/R CMD INSTALL markeR StartedAt: 2025-10-23 15:07:56 -0400 (Thu, 23 Oct 2025) EndedAt: 2025-10-23 15:08:04 -0400 (Thu, 23 Oct 2025) EllapsedTime: 7.5 seconds RetCode: 0 Status: OK