Package: markeR Version: 0.99.6 Command: /Library/Frameworks/R.framework/Resources/bin/R CMD build --keep-empty-dirs --no-resave-data markeR StartedAt: 2025-10-23 16:54:42 -0400 (Thu, 23 Oct 2025) EndedAt: 2025-10-23 16:56:44 -0400 (Thu, 23 Oct 2025) EllapsedTime: 121.4 seconds RetCode: 0 Status: OK PackageFile: markeR_0.99.6.tar.gz PackageFileSize: 3.839 MiB