Package: markeR Version: 0.99.6 Command: rm -rf markeR.buildbin-libdir && mkdir markeR.buildbin-libdir && /Users/biocbuild/BBS/utils/build-universal.sh markeR_0.99.6.tar.gz /Library/Frameworks/R.framework/Resources/bin/R markeR.buildbin-libdir StartedAt: 2025-10-23 23:15:12 -0400 (Thu, 23 Oct 2025) EndedAt: 2025-10-23 23:15:22 -0400 (Thu, 23 Oct 2025) EllapsedTime: 9.2 seconds RetCode: 0 Status: OK PackageFile: markeR_0.99.6.tgz PackageFileSize: 4.116 MiB