Package: mariner Version: 1.11.0 Command: /home/biocbuild/bbs-3.23-bioc/R/bin/R CMD INSTALL mariner StartedAt: 2025-11-23 15:36:59 -0500 (Sun, 23 Nov 2025) EndedAt: 2025-11-23 15:37:11 -0500 (Sun, 23 Nov 2025) EllapsedTime: 11.7 seconds RetCode: 1 Status: ERROR