############################################################################## ############################################################################## ### ### Running command: ### ### /home/biocbuild/bbs-3.23-bioc/R/bin/R CMD INSTALL mariner ### ############################################################################## ############################################################################## * installing to library ‘/home/biocbuild/bbs-3.23-bioc/R/site-library’ * installing *source* package ‘mariner’ ... ** this is package ‘mariner’ version ‘1.11.0’ ** using staged installation ** R ** inst ** byte-compile and prepare package for lazy loading Error: object ‘mutate’ is not exported by 'namespace:plyranges' Execution halted ERROR: lazy loading failed for package ‘mariner’ * removing ‘/home/biocbuild/bbs-3.23-bioc/R/site-library/mariner’ * restoring previous ‘/home/biocbuild/bbs-3.23-bioc/R/site-library/mariner’