############################################################################## ############################################################################## ### ### Running command: ### ### /home/biocbuild/bbs-3.23-bioc/R/bin/R CMD build --keep-empty-dirs --no-resave-data mariner ### ############################################################################## ############################################################################## * checking for file ‘mariner/DESCRIPTION’ ... OK * preparing ‘mariner’: * checking DESCRIPTION meta-information ... OK * installing the package (it is needed to build vignettes) ----------------------------------- * installing *source* package ‘mariner’ ... ** this is package ‘mariner’ version ‘1.11.0’ ** using staged installation ** R ** inst ** byte-compile and prepare package for lazy loading Error: object ‘mutate’ is not exported by 'namespace:plyranges' Execution halted ERROR: lazy loading failed for package ‘mariner’ * removing ‘/tmp/RtmpnbsZv0/Rinst2503d54d4cc200/mariner’ ----------------------------------- ERROR: package installation failed