Package: mapscape Version: 1.35.0 Command: /home/biocbuild/bbs-3.23-bioc/R/bin/R CMD INSTALL mapscape StartedAt: 2025-11-20 15:06:30 -0500 (Thu, 20 Nov 2025) EndedAt: 2025-11-20 15:07:08 -0500 (Thu, 20 Nov 2025) EllapsedTime: 38.0 seconds RetCode: 0 Status: OK