Package: mapscape Version: 1.35.0 Command: /home/biocbuild/bbs-3.23-bioc/R/bin/R CMD build --keep-empty-dirs --no-resave-data mapscape StartedAt: 2025-11-20 18:25:19 -0500 (Thu, 20 Nov 2025) EndedAt: 2025-11-20 18:25:29 -0500 (Thu, 20 Nov 2025) EllapsedTime: 10.0 seconds RetCode: 0 Status: OK PackageFile: mapscape_1.35.0.tar.gz PackageFileSize: 4.794 MiB