Package: mapscape Version: 1.33.0 Command: /Library/Frameworks/R.framework/Resources/bin/R CMD INSTALL mapscape StartedAt: 2025-10-12 15:10:06 -0400 (Sun, 12 Oct 2025) EndedAt: 2025-10-12 15:10:53 -0400 (Sun, 12 Oct 2025) EllapsedTime: 46.6 seconds RetCode: 0 Status: OK