Package: mapscape Version: 1.33.0 Command: /Library/Frameworks/R.framework/Resources/bin/R CMD INSTALL mapscape StartedAt: 2025-09-29 15:04:06 -0400 (Mon, 29 Sep 2025) EndedAt: 2025-09-29 15:04:24 -0400 (Mon, 29 Sep 2025) EllapsedTime: 18.3 seconds RetCode: 0 Status: OK