Package: mapscape Version: 1.33.0 Command: /Library/Frameworks/R.framework/Resources/bin/R CMD build --keep-empty-dirs --no-resave-data mapscape StartedAt: 2025-09-29 16:51:36 -0400 (Mon, 29 Sep 2025) EndedAt: 2025-09-29 16:51:40 -0400 (Mon, 29 Sep 2025) EllapsedTime: 4.1 seconds RetCode: 0 Status: OK PackageFile: mapscape_1.33.0.tar.gz PackageFileSize: 4.794 MiB