Package: mapscape Version: 1.33.0 Command: rm -rf mapscape.buildbin-libdir && mkdir mapscape.buildbin-libdir && /Users/biocbuild/BBS/utils/build-universal.sh mapscape_1.33.0.tar.gz /Library/Frameworks/R.framework/Resources/bin/R mapscape.buildbin-libdir StartedAt: 2025-09-29 22:40:50 -0400 (Mon, 29 Sep 2025) EndedAt: 2025-09-29 22:40:52 -0400 (Mon, 29 Sep 2025) EllapsedTime: 2.1 seconds RetCode: 0 Status: OK PackageFile: mapscape_1.33.0.tgz PackageFileSize: 4.136 MiB