Package: makecdfenv Version: 1.87.0 Command: /home/biocbuild/bbs-3.23-bioc/R/bin/R CMD INSTALL makecdfenv StartedAt: 2025-10-31 15:21:00 -0400 (Fri, 31 Oct 2025) EndedAt: 2025-10-31 15:21:06 -0400 (Fri, 31 Oct 2025) EllapsedTime: 6.0 seconds RetCode: 0 Status: OK