Package: makecdfenv Version: 1.87.0 Command: /home/biocbuild/bbs-3.23-bioc/R/bin/R CMD check --install=check:makecdfenv.install-out.txt --library=/home/biocbuild/bbs-3.23-bioc/R/site-library --timings makecdfenv_1.87.0.tar.gz StartedAt: 2025-11-01 00:42:49 -0400 (Sat, 01 Nov 2025) EndedAt: 2025-11-01 00:43:26 -0400 (Sat, 01 Nov 2025) EllapsedTime: 36.1 seconds RetCode: 0 Status: WARNINGS CheckDir: makecdfenv.Rcheck Warnings: 1