Package: makecdfenv Version: 1.87.0 Command: /home/biocbuild/bbs-3.23-bioc/R/bin/R CMD build --keep-empty-dirs --no-resave-data makecdfenv StartedAt: 2025-10-31 18:34:12 -0400 (Fri, 31 Oct 2025) EndedAt: 2025-10-31 18:34:21 -0400 (Fri, 31 Oct 2025) EllapsedTime: 9.0 seconds RetCode: 0 Status: OK PackageFile: makecdfenv_1.87.0.tar.gz PackageFileSize: 3.259 MiB