Package: magrene Version: 1.13.0 Command: /home/biocbuild/bbs-3.23-bioc/R/bin/R CMD build --keep-empty-dirs --no-resave-data magrene StartedAt: 2025-11-07 18:20:27 -0500 (Fri, 07 Nov 2025) EndedAt: 2025-11-07 18:21:05 -0500 (Fri, 07 Nov 2025) EllapsedTime: 38.0 seconds RetCode: 0 Status: OK PackageFile: magrene_1.13.0.tar.gz PackageFileSize: 2.256 MiB