Package: magpie Version: 1.11.0 Command: /home/biocbuild/bbs-3.23-bioc/R/bin/R CMD build --keep-empty-dirs --no-resave-data magpie StartedAt: 2025-11-05 18:26:09 -0500 (Wed, 05 Nov 2025) EndedAt: 2025-11-05 18:27:06 -0500 (Wed, 05 Nov 2025) EllapsedTime: 57.1 seconds RetCode: 0 Status: OK PackageFile: magpie_1.11.0.tar.gz PackageFileSize: 2.247 MiB