Package: magpie Version: 1.9.0 Command: /Library/Frameworks/R.framework/Resources/bin/R CMD INSTALL magpie StartedAt: 2025-10-03 15:20:29 -0400 (Fri, 03 Oct 2025) EndedAt: 2025-10-03 15:20:45 -0400 (Fri, 03 Oct 2025) EllapsedTime: 15.7 seconds RetCode: 0 Status: OK