Package: magpie Version: 1.9.0 Command: rm -rf magpie.buildbin-libdir && mkdir magpie.buildbin-libdir && /Users/biocbuild/BBS/utils/build-universal.sh magpie_1.9.0.tar.gz /Library/Frameworks/R.framework/Resources/bin/R magpie.buildbin-libdir StartedAt: 2025-10-03 22:44:29 -0400 (Fri, 03 Oct 2025) EndedAt: 2025-10-03 22:44:47 -0400 (Fri, 03 Oct 2025) EllapsedTime: 17.4 seconds RetCode: 0 Status: OK PackageFile: magpie_1.9.0.tgz PackageFileSize: 2.114 MiB