Package: maftools Version: 2.26.0 Command: /home/biocbuild/bbs-3.22-bioc/R/bin/R CMD check --install=check:maftools.install-out.txt --library=/home/biocbuild/bbs-3.22-bioc/R/site-library --timings maftools_2.26.0.tar.gz StartedAt: 2025-10-30 07:21:07 -0400 (Thu, 30 Oct 2025) EndedAt: 2025-10-30 07:26:06 -0400 (Thu, 30 Oct 2025) EllapsedTime: 298.5 seconds RetCode: 0 Status: WARNINGS CheckDir: maftools.Rcheck Warnings: 1