Package: maftools Version: 2.27.0 Command: /home/biocbuild/bbs-3.23-bioc/R/bin/R CMD INSTALL maftools StartedAt: 2025-11-02 15:17:19 -0500 (Sun, 02 Nov 2025) EndedAt: 2025-11-02 15:17:40 -0500 (Sun, 02 Nov 2025) EllapsedTime: 20.9 seconds RetCode: 0 Status: OK