Package: maftools Version: 2.27.0 Command: /home/biocbuild/bbs-3.23-bioc/R/bin/R CMD build --keep-empty-dirs --no-resave-data maftools StartedAt: 2025-11-03 18:17:09 -0500 (Mon, 03 Nov 2025) EndedAt: 2025-11-03 18:20:09 -0500 (Mon, 03 Nov 2025) EllapsedTime: 180.2 seconds RetCode: 0 Status: OK PackageFile: maftools_2.27.0.tar.gz PackageFileSize: 11.89 MiB