Package: maftools Version: 2.25.10 Command: /Library/Frameworks/R.framework/Resources/bin/R CMD build --keep-empty-dirs --no-resave-data maftools StartedAt: 2025-10-10 17:48:42 -0400 (Fri, 10 Oct 2025) EndedAt: 2025-10-10 17:53:24 -0400 (Fri, 10 Oct 2025) EllapsedTime: 282.4 seconds RetCode: 0 Status: OK PackageFile: maftools_2.25.10.tar.gz PackageFileSize: 12.33 MiB