Package: maftools Version: 2.25.10 Command: rm -rf maftools.buildbin-libdir && mkdir maftools.buildbin-libdir && /Users/biocbuild/BBS/utils/build-universal.sh maftools_2.25.10.tar.gz /Library/Frameworks/R.framework/Resources/bin/R maftools.buildbin-libdir StartedAt: 2025-10-11 02:37:10 -0400 (Sat, 11 Oct 2025) EndedAt: 2025-10-11 02:37:47 -0400 (Sat, 11 Oct 2025) EllapsedTime: 36.4 seconds RetCode: 0 Status: OK PackageFile: maftools_2.25.10.tgz PackageFileSize: 13.1 MiB