Package: made4 Version: 1.85.0 Command: /home/biocbuild/bbs-3.23-bioc/R/bin/R CMD INSTALL made4 StartedAt: 2025-11-07 15:21:07 -0500 (Fri, 07 Nov 2025) EndedAt: 2025-11-07 15:21:27 -0500 (Fri, 07 Nov 2025) EllapsedTime: 20.7 seconds RetCode: 0 Status: OK