Package: made4 Version: 1.85.0 Command: /home/biocbuild/bbs-3.23-bioc/R/bin/R CMD build --keep-empty-dirs --no-resave-data made4 StartedAt: 2025-11-07 18:20:01 -0500 (Fri, 07 Nov 2025) EndedAt: 2025-11-07 18:20:38 -0500 (Fri, 07 Nov 2025) EllapsedTime: 37.0 seconds RetCode: 0 Status: OK PackageFile: made4_1.85.0.tar.gz PackageFileSize: 2.72 MiB