Package: made4 Version: 1.83.0 Command: /Library/Frameworks/R.framework/Resources/bin/R CMD INSTALL made4 StartedAt: 2025-10-16 15:47:25 -0400 (Thu, 16 Oct 2025) EndedAt: 2025-10-16 15:47:55 -0400 (Thu, 16 Oct 2025) EllapsedTime: 29.9 seconds RetCode: 0 Status: OK