Package: made4 Version: 1.83.0 Command: /Library/Frameworks/R.framework/Resources/bin/R CMD build --keep-empty-dirs --no-resave-data made4 StartedAt: 2025-10-16 18:19:33 -0400 (Thu, 16 Oct 2025) EndedAt: 2025-10-16 18:20:42 -0400 (Thu, 16 Oct 2025) EllapsedTime: 69.1 seconds RetCode: 0 Status: OK PackageFile: made4_1.83.0.tar.gz PackageFileSize: 2.511 MiB