Package: maaslin3 Version: 1.3.0 Command: /home/biocbuild/bbs-3.23-bioc/R/bin/R CMD INSTALL maaslin3 StartedAt: 2025-11-20 15:29:48 -0500 (Thu, 20 Nov 2025) EndedAt: 2025-11-20 15:30:19 -0500 (Thu, 20 Nov 2025) EllapsedTime: 31.5 seconds RetCode: 0 Status: OK