Package: maaslin3 Version: 1.3.0 Command: /home/biocbuild/bbs-3.23-bioc/R/bin/R CMD build --keep-empty-dirs --no-resave-data maaslin3 StartedAt: 2025-11-20 18:23:16 -0500 (Thu, 20 Nov 2025) EndedAt: 2025-11-20 18:32:29 -0500 (Thu, 20 Nov 2025) EllapsedTime: 553.7 seconds RetCode: 0 Status: OK PackageFile: maaslin3_1.3.0.tar.gz PackageFileSize: 1.088 MiB