Package: maaslin3 Version: 1.1.2 Command: /Library/Frameworks/R.framework/Resources/bin/R CMD build --keep-empty-dirs --no-resave-data maaslin3 StartedAt: 2025-10-23 17:30:40 -0400 (Thu, 23 Oct 2025) EndedAt: 2025-10-23 17:40:50 -0400 (Thu, 23 Oct 2025) EllapsedTime: 609.7 seconds RetCode: 0 Status: OK PackageFile: maaslin3_1.1.2.tar.gz PackageFileSize: 1.088 MiB