Package: maaslin3 Version: 1.1.2 Command: /Library/Frameworks/R.framework/Resources/bin/R CMD INSTALL maaslin3 StartedAt: 2025-10-14 15:16:19 -0400 (Tue, 14 Oct 2025) EndedAt: 2025-10-14 15:16:32 -0400 (Tue, 14 Oct 2025) EllapsedTime: 13.0 seconds RetCode: 0 Status: OK