Package: maaslin3 Version: 1.1.2 Command: rm -rf maaslin3.buildbin-libdir && mkdir maaslin3.buildbin-libdir && /Users/biocbuild/BBS/utils/build-universal.sh maaslin3_1.1.2.tar.gz /Library/Frameworks/R.framework/Resources/bin/R maaslin3.buildbin-libdir StartedAt: 2025-10-13 22:47:32 -0400 (Mon, 13 Oct 2025) EndedAt: 2025-10-13 22:47:46 -0400 (Mon, 13 Oct 2025) EllapsedTime: 14.3 seconds RetCode: 0 Status: OK PackageFile: maaslin3_1.1.2.tgz PackageFileSize: 1.263 MiB