Package: maSigPro Version: 1.83.0 Command: /home/biocbuild/bbs-3.23-bioc/R/bin/R CMD INSTALL maSigPro StartedAt: 2025-11-05 15:18:58 -0500 (Wed, 05 Nov 2025) EndedAt: 2025-11-05 15:19:02 -0500 (Wed, 05 Nov 2025) EllapsedTime: 4.4 seconds RetCode: 0 Status: OK