Package: maSigPro Version: 1.83.0 Command: /home/biocbuild/bbs-3.23-bioc/R/bin/R CMD build --keep-empty-dirs --no-resave-data maSigPro StartedAt: 2025-11-05 18:28:30 -0500 (Wed, 05 Nov 2025) EndedAt: 2025-11-05 18:28:38 -0500 (Wed, 05 Nov 2025) EllapsedTime: 8.0 seconds RetCode: 0 Status: OK PackageFile: maSigPro_1.83.0.tar.gz PackageFileSize: 1.511 MiB