Package: maSigPro Version: 1.81.0 Command: /Library/Frameworks/R.framework/Resources/bin/R CMD build --keep-empty-dirs --no-resave-data maSigPro StartedAt: 2025-10-16 18:21:03 -0400 (Thu, 16 Oct 2025) EndedAt: 2025-10-16 18:21:18 -0400 (Thu, 16 Oct 2025) EllapsedTime: 14.9 seconds RetCode: 0 Status: OK PackageFile: maSigPro_1.81.0.tar.gz PackageFileSize: 1.511 MiB