Package: maSigPro Version: 1.81.0 Command: rm -rf maSigPro.buildbin-libdir && mkdir maSigPro.buildbin-libdir && /Users/biocbuild/BBS/utils/build-universal.sh maSigPro_1.81.0.tar.gz /Library/Frameworks/R.framework/Resources/bin/R maSigPro.buildbin-libdir StartedAt: 2025-10-16 03:01:03 -0400 (Thu, 16 Oct 2025) EndedAt: 2025-10-16 03:01:12 -0400 (Thu, 16 Oct 2025) EllapsedTime: 9.4 seconds RetCode: 0 Status: OK PackageFile: maSigPro_1.81.0.tgz PackageFileSize: 1.683 MiB