Package: maSigPro Version: 1.81.0 Command: /Library/Frameworks/R.framework/Resources/bin/R CMD INSTALL maSigPro StartedAt: 2025-10-03 15:06:53 -0400 (Fri, 03 Oct 2025) EndedAt: 2025-10-03 15:06:55 -0400 (Fri, 03 Oct 2025) EllapsedTime: 2.4 seconds RetCode: 0 Status: OK