Package: maSigPro Version: 1.81.0 Command: /Library/Frameworks/R.framework/Resources/bin/R CMD build --keep-empty-dirs --no-resave-data maSigPro StartedAt: 2025-10-03 16:52:54 -0400 (Fri, 03 Oct 2025) EndedAt: 2025-10-03 16:52:59 -0400 (Fri, 03 Oct 2025) EllapsedTime: 5.1 seconds RetCode: 0 Status: OK PackageFile: maSigPro_1.81.0.tar.gz PackageFileSize: 1.511 MiB