Package: maSigPro Version: 1.83.0 Maintainer: Maria Jose Nueda MaintainerEmail: mj.nueda at ua.es git_url: https://git.bioconductor.org/packages/maSigPro git_branch: devel git_last_commit: 99d470c git_last_commit_date: 2025-10-29 09:57:06 -0500 (Wed, 29 Oct 2025)